2.43840000
0.00000000
0.00000000
-2.43840000
566993.98244205
5095083.89400624
