2.43840000
0.00000000
0.00000000
-2.43840000
528340.46546057
5080829.81615119
