2.43840000
0.00000000
0.00000000
-2.43840000
518728.65918659
5052998.98692208
