2.43840000
0.00000000
0.00000000
-2.43840000
567442.85903835
5053423.94958063
