2.43840000
0.00000000
0.00000000
-2.43840000
528538.32200994
5039166.13647413
