2.43840000
0.00000000
0.00000000
-2.43840000
499239.81861911
5025161.72034833
