2.43840000
0.00000000
0.00000000
-2.43840000
528598.27597005
5025280.37328926
