2.43840000
0.00000000
0.00000000
-2.43840000
509048.98011658
5011300.21308048
