2.43840000
0.00000000
0.00000000
-2.43840000
528664.36633171
5011392.65478423
