2.43840000
0.00000000
0.00000000
-2.43840000
499238.85223686
4997389.95058902
