2.43840000
0.00000000
0.00000000
-2.43840000
548388.69065377
4997661.81371335
