2.43840000
0.00000000
0.00000000
-2.43840000
576663.50621667
5095218.77444811
