2.43840000
0.00000000
0.00000000
-2.43840000
615377.27111404
5095892.02836403
