2.43840000
0.00000000
0.00000000
-2.43840000
634730.97550679
5096318.81590161
