2.43840000
0.00000000
0.00000000
-2.43840000
615898.35785963
5068115.23851879
