2.43840000
0.00000000
0.00000000
-2.43840000
596675.05086979
5053860.60875350
