2.43840000
0.00000000
0.00000000
-2.43840000
616159.23552043
5054227.80099985
