2.43840000
0.00000000
0.00000000
-2.43840000
635949.37227135
5040767.54634123
