2.43840000
0.00000000
0.00000000
-2.43840000
597322.46124574
5012199.99355914
