2.43840000
0.00000000
0.00000000
-2.43840000
626749.04197782
5012771.33243057
