2.43840000
0.00000000
0.00000000
-2.43840000
636555.50415700
5012994.10294884
