2.43840000
0.00000000
0.00000000
-2.43840000
683536.62604928
5083768.97486945
