2.43840000
0.00000000
0.00000000
-2.43840000
664505.87339180
5069305.71901438
