2.43840000
0.00000000
0.00000000
-2.43840000
674620.80393553
5055699.87394927
