2.43840000
0.00000000
0.00000000
-2.43840000
685182.25943303
5028220.46045590
