2.43840000
0.00000000
0.00000000
-2.43840000
704604.82864384
5028860.38637693
