2.43840000
0.00000000
0.00000000
-2.43840000
724328.69756163
5029563.59616463
