2.43840000
0.00000000
0.00000000
-2.43840000
656514.71358783
4999598.96915227
