2.43840000
0.00000000
0.00000000
-2.43840000
676173.03614668
5000148.77821663
