2.43840000
0.00000000
0.00000000
-2.43840000
686001.76719743
5000447.64382025
