10.15999961
0.00000000
0.00000000
-10.15999961
422826.35652523
5374711.06140616
