10.15999961
0.00000000
0.00000000
-10.15999961
497457.05437860
5263716.99160550
