10.15999961
0.00000000
0.00000000
-10.15999961
572049.29370663
5320895.10132927
