10.15999961
0.00000000
0.00000000
-10.15999961
497459.71724484
5319284.68817844
