10.15999961
0.00000000
0.00000000
-10.15999961
497456.42974829
5152327.47288087
