10.15999961
0.00000000
0.00000000
-10.15999961
497464.11376075
5208137.71973787
