10.15999961
0.00000000
0.00000000
-10.15999961
573484.04628449
5209762.27702005
