10.15999961
0.00000000
0.00000000
-10.15999961
649478.51304456
5212347.12812895
