10.15999961
0.00000000
0.00000000
-10.15999961
653676.79884568
5045686.11594946
