10.15999961
0.00000000
0.00000000
-10.15999961
419300.82642484
5096888.10075012
