10.160000
0
0
-10.160000
646546.679735
5044531.295671
