0.274320
0.000000
-0.000000
-0.274320
351434.737634
5360013.742339
