0.274320
0.000000
-0.000000
-0.274320
370309.211460
5373454.256280
