0.274320
0.000000
-0.000000
-0.274320
397084.767815
5317314.778560
