0.274320
0.000000
-0.000000
-0.274320
387738.118705
5317488.662258
