1
0
0
-1
1820360.5
458103.5
