1
0
0
-1
1841490.5
463480.5
