1
0
0
-1
1836166.5
463452.5
