1
0
0
-1
1830893.5
463416.5
