1
0
0
-1
1831255.5
480350.5
